BEGIN:VCALENDAR
VERSION:2.0
PRODID:-//www.rmdc.net//NONSGML kigkonsult.se iCalcreator 2.30.10//
CALSCALE:GREGORIAN
METHOD:PUBLISH
UID:3046b501-77df-4d8c-b9e4-e446f0b727e0
X-WR-CALDESC:
X-WR-RELCALID:4ab45a859620b7b78cce95835b10c9cc
X-WR-TIMEZONE:America/Denver
BEGIN:VTIMEZONE
TZID:America/Denver
BEGIN:STANDARD
TZNAME:MST
DTSTART:20261101T020000
TZOFFSETFROM:-0600
TZOFFSETTO:-0700
RDATE:20271107T020000
END:STANDARD
BEGIN:DAYLIGHT
TZNAME:MDT
DTSTART:20270314T020000
TZOFFSETFROM:-0700
TZOFFSETTO:-0600
RDATE:20280312T020000
END:DAYLIGHT
END:VTIMEZONE
BEGIN:VEVENT
UID:5f650d83-bdb6-40c0-ac92-1963d5e37b94
DTSTAMP:20260424T065121Z
DESCRIPTION:
DTSTART;TZID=America/Denver:20270411T130000
DTEND;TZID=America/Denver:20270411T160000
LOCATION:
SUMMARY:Pinochle
END:VEVENT
END:VCALENDAR
