BEGIN:VCALENDAR
VERSION:2.0
PRODID:-//www.rmdc.net//NONSGML kigkonsult.se iCalcreator 2.30.10//
CALSCALE:GREGORIAN
METHOD:PUBLISH
UID:3e03fae3-c5cb-4b41-a3da-a2d6b353a127
X-WR-CALDESC:
X-WR-RELCALID:f6f7a73eb93bd2f215b1481c3eedc6a8
X-WR-TIMEZONE:America/Denver
BEGIN:VTIMEZONE
TZID:America/Denver
BEGIN:STANDARD
TZNAME:MST
DTSTART:20261101T020000
TZOFFSETFROM:-0600
TZOFFSETTO:-0700
RDATE:20271107T020000
END:STANDARD
BEGIN:DAYLIGHT
TZNAME:MDT
DTSTART:20270314T020000
TZOFFSETFROM:-0700
TZOFFSETTO:-0600
RDATE:20280312T020000
END:DAYLIGHT
END:VTIMEZONE
BEGIN:VEVENT
UID:470bfde6-8355-4d53-ba95-0d8bfb8f762e
DTSTAMP:20260424T065024Z
DESCRIPTION:
DTSTART;TZID=America/Denver:20270428T130000
DTEND;TZID=America/Denver:20270428T150000
LOCATION:Dining Room
SUMMARY:Bingo
END:VEVENT
END:VCALENDAR
