BEGIN:VCALENDAR
VERSION:2.0
PRODID:-//www.rmdc.net//NONSGML kigkonsult.se iCalcreator 2.30.10//
CALSCALE:GREGORIAN
METHOD:PUBLISH
UID:03f059e9-97ac-4a72-9ceb-6773f6197d85
X-WR-CALDESC:
X-WR-RELCALID:a80e10da0020d91a9d7cb021752e3ff2
X-WR-TIMEZONE:America/Denver
BEGIN:VTIMEZONE
TZID:America/Denver
BEGIN:STANDARD
TZNAME:MST
DTSTART:20261101T020000
TZOFFSETFROM:-0600
TZOFFSETTO:-0700
RDATE:20271107T020000
END:STANDARD
BEGIN:DAYLIGHT
TZNAME:MDT
DTSTART:20270314T020000
TZOFFSETFROM:-0700
TZOFFSETTO:-0600
RDATE:20280312T020000
END:DAYLIGHT
END:VTIMEZONE
BEGIN:VEVENT
UID:6fc3ae1a-4f79-4d2c-8101-69385e232f56
DTSTAMP:20260424T082231Z
DESCRIPTION:
DTSTART;TZID=America/Denver:20270502T130000
DTEND;TZID=America/Denver:20270502T160000
LOCATION:
SUMMARY:Pinochle
END:VEVENT
END:VCALENDAR
