BEGIN:VCALENDAR
VERSION:2.0
PRODID:-//www.rmdc.net//NONSGML kigkonsult.se iCalcreator 2.30.10//
CALSCALE:GREGORIAN
METHOD:PUBLISH
UID:71b11ce9-7bcc-44ab-901a-51f5bc87ccec
X-WR-CALDESC:
X-WR-RELCALID:fc4247029770a7727f14144bdfc695ef
X-WR-TIMEZONE:America/Denver
BEGIN:VTIMEZONE
TZID:America/Denver
BEGIN:STANDARD
TZNAME:MST
DTSTART:20261101T020000
TZOFFSETFROM:-0600
TZOFFSETTO:-0700
RDATE:20271107T020000
RDATE:20281105T020000
END:STANDARD
BEGIN:DAYLIGHT
TZNAME:MDT
DTSTART:20270314T020000
TZOFFSETFROM:-0700
TZOFFSETTO:-0600
RDATE:20280312T020000
END:DAYLIGHT
END:VTIMEZONE
BEGIN:VEVENT
UID:92373485-fae7-4e7b-98f5-54b92f910fbe
DTSTAMP:20260424T082132Z
DESCRIPTION:
DTSTART;TZID=America/Denver:20270509T130000
DTEND;TZID=America/Denver:20270509T160000
LOCATION:
SUMMARY:Pinochle
END:VEVENT
END:VCALENDAR
