BEGIN:VCALENDAR
VERSION:2.0
PRODID:-//www.rmdc.net//NONSGML kigkonsult.se iCalcreator 2.30.10//
CALSCALE:GREGORIAN
METHOD:PUBLISH
UID:d4a8f929-bc63-4552-a388-6b41415d0fed
X-WR-CALDESC:
X-WR-RELCALID:5f07e1da5834789d02075568cbec8510
X-WR-TIMEZONE:America/Denver
BEGIN:VTIMEZONE
TZID:America/Denver
BEGIN:STANDARD
TZNAME:MST
DTSTART:20261101T020000
TZOFFSETFROM:-0600
TZOFFSETTO:-0700
RDATE:20271107T020000
RDATE:20281105T020000
END:STANDARD
BEGIN:DAYLIGHT
TZNAME:MDT
DTSTART:20270314T020000
TZOFFSETFROM:-0700
TZOFFSETTO:-0600
RDATE:20280312T020000
END:DAYLIGHT
END:VTIMEZONE
BEGIN:VEVENT
UID:e5add4de-d6ef-4809-947b-37d5d09e6025
DTSTAMP:20260424T082129Z
DESCRIPTION:
DTSTART;TZID=America/Denver:20270516T130000
DTEND;TZID=America/Denver:20270516T160000
LOCATION:
SUMMARY:Pinochle
END:VEVENT
END:VCALENDAR
