BEGIN:VCALENDAR
VERSION:2.0
PRODID:-//www.rmdc.net//NONSGML kigkonsult.se iCalcreator 2.30.10//
CALSCALE:GREGORIAN
METHOD:PUBLISH
UID:7570ff17-8a57-48f7-ba5a-2343320ad01c
X-WR-CALDESC:
X-WR-RELCALID:57263646e1ae31fa9e650a037e281c71
X-WR-TIMEZONE:America/Denver
BEGIN:VTIMEZONE
TZID:America/Denver
BEGIN:STANDARD
TZNAME:MST
DTSTART:20261101T020000
TZOFFSETFROM:-0600
TZOFFSETTO:-0700
RDATE:20271107T020000
RDATE:20281105T020000
END:STANDARD
BEGIN:DAYLIGHT
TZNAME:MDT
DTSTART:20270314T020000
TZOFFSETFROM:-0700
TZOFFSETTO:-0600
RDATE:20280312T020000
END:DAYLIGHT
END:VTIMEZONE
BEGIN:VEVENT
UID:aad02618-175e-4e72-980e-973bb34f6f36
DTSTAMP:20260424T111047Z
DESCRIPTION:
DTSTART;TZID=America/Denver:20270704T130000
DTEND;TZID=America/Denver:20270704T160000
LOCATION:
SUMMARY:Pinochle
END:VEVENT
END:VCALENDAR
