BEGIN:VCALENDAR
VERSION:2.0
PRODID:-//www.rmdc.net//NONSGML kigkonsult.se iCalcreator 2.30.10//
CALSCALE:GREGORIAN
METHOD:PUBLISH
UID:964e812c-9ecc-4b09-aae6-4b5dc6ca6ccf
X-WR-CALDESC:
X-WR-RELCALID:1819f8abebdbd83746e4492eb421d8e0
X-WR-TIMEZONE:America/Denver
BEGIN:VTIMEZONE
TZID:America/Denver
BEGIN:STANDARD
TZNAME:MST
DTSTART:20261101T020000
TZOFFSETFROM:-0600
TZOFFSETTO:-0700
RDATE:20271107T020000
RDATE:20281105T020000
END:STANDARD
BEGIN:DAYLIGHT
TZNAME:MDT
DTSTART:20270314T020000
TZOFFSETFROM:-0700
TZOFFSETTO:-0600
RDATE:20280312T020000
END:DAYLIGHT
END:VTIMEZONE
BEGIN:VEVENT
UID:a8599218-2b4c-4de6-a0c7-e172f1546073
DTSTAMP:20260424T123238Z
DESCRIPTION:
DTSTART;TZID=America/Denver:20270815T130000
DTEND;TZID=America/Denver:20270815T160000
LOCATION:
SUMMARY:Pinochle
END:VEVENT
END:VCALENDAR
