BEGIN:VCALENDAR
VERSION:2.0
PRODID:-//www.rmdc.net//NONSGML kigkonsult.se iCalcreator 2.30.10//
CALSCALE:GREGORIAN
METHOD:PUBLISH
UID:fe58f097-0468-4943-b947-efb7e842b921
X-WR-CALDESC:
X-WR-RELCALID:e02c5fc0768816fcc0a6a4f79be50caa
X-WR-TIMEZONE:America/Denver
BEGIN:VTIMEZONE
TZID:America/Denver
BEGIN:STANDARD
TZNAME:MST
DTSTART:20271107T020000
TZOFFSETFROM:-0600
TZOFFSETTO:-0700
RDATE:20281105T020000
END:STANDARD
BEGIN:DAYLIGHT
TZNAME:MDT
DTSTART:20270314T020000
TZOFFSETFROM:-0700
TZOFFSETTO:-0600
RDATE:20280312T020000
RDATE:20290311T020000
END:DAYLIGHT
END:VTIMEZONE
BEGIN:VEVENT
UID:193fc186-0a1c-4e25-b5f2-96ef78115ec9
DTSTAMP:20260424T162907Z
DESCRIPTION:
DTSTART;TZID=America/Denver:20271107T130000
DTEND;TZID=America/Denver:20271107T160000
LOCATION:
SUMMARY:Pinochle
END:VEVENT
END:VCALENDAR
