BEGIN:VCALENDAR
VERSION:2.0
PRODID:-//www.rmdc.net//NONSGML kigkonsult.se iCalcreator 2.30.10//
CALSCALE:GREGORIAN
METHOD:PUBLISH
UID:28851fd2-c842-454c-a26a-61891e2ae952
X-WR-CALDESC:
X-WR-RELCALID:3da57d0d1bb601a26c52716def44a17a
X-WR-TIMEZONE:America/Denver
BEGIN:VTIMEZONE
TZID:America/Denver
BEGIN:STANDARD
TZNAME:MST
DTSTART:20271107T020000
TZOFFSETFROM:-0600
TZOFFSETTO:-0700
RDATE:20281105T020000
END:STANDARD
BEGIN:DAYLIGHT
TZNAME:MDT
DTSTART:20270314T020000
TZOFFSETFROM:-0700
TZOFFSETTO:-0600
RDATE:20280312T020000
RDATE:20290311T020000
END:DAYLIGHT
END:VTIMEZONE
BEGIN:VEVENT
UID:4a10256c-5c6f-4c3e-86ca-f2b8bb2b64e4
DTSTAMP:20260424T163607Z
DESCRIPTION:
DTSTART;TZID=America/Denver:20271114T130000
DTEND;TZID=America/Denver:20271114T160000
LOCATION:
SUMMARY:Pinochle
END:VEVENT
END:VCALENDAR
