BEGIN:VCALENDAR
VERSION:2.0
PRODID:-//www.rmdc.net//NONSGML kigkonsult.se iCalcreator 2.30.10//
CALSCALE:GREGORIAN
METHOD:PUBLISH
UID:39a4cf3b-e990-4a52-883a-4cd8faa63b1f
X-WR-CALDESC:
X-WR-RELCALID:e87d4a91a1929d14566e24a31a5fc3d4
X-WR-TIMEZONE:America/Denver
BEGIN:VTIMEZONE
TZID:America/Denver
BEGIN:STANDARD
TZNAME:MST
DTSTART:20251102T020000
TZOFFSETFROM:-0600
TZOFFSETTO:-0700
RDATE:20261101T020000
END:STANDARD
BEGIN:DAYLIGHT
TZNAME:MDT
DTSTART:20250309T020000
TZOFFSETFROM:-0700
TZOFFSETTO:-0600
RDATE:20260308T020000
RDATE:20270314T020000
END:DAYLIGHT
END:VTIMEZONE
BEGIN:VEVENT
UID:9aca1238-1a98-4ff3-9832-b48832f91b82
DTSTAMP:20260423T184929Z
DESCRIPTION:
DTSTART;TZID=America/Denver:20251104T130000
DTEND;TZID=America/Denver:20251104T160000
LOCATION:
SUMMARY:Pinochle
END:VEVENT
END:VCALENDAR
