BEGIN:VCALENDAR
VERSION:2.0
PRODID:-//www.rmdc.net//NONSGML kigkonsult.se iCalcreator 2.30.10//
CALSCALE:GREGORIAN
METHOD:PUBLISH
UID:6eaeb28f-16fa-43c0-8f50-c9606234e70a
X-WR-CALDESC:
X-WR-RELCALID:f5ce2e4ce1fd254af280bb60de42fcd4
X-WR-TIMEZONE:America/Denver
BEGIN:VTIMEZONE
TZID:America/Denver
BEGIN:STANDARD
TZNAME:MST
DTSTART:20251102T020000
TZOFFSETFROM:-0600
TZOFFSETTO:-0700
RDATE:20261101T020000
END:STANDARD
BEGIN:DAYLIGHT
TZNAME:MDT
DTSTART:20250309T020000
TZOFFSETFROM:-0700
TZOFFSETTO:-0600
RDATE:20260308T020000
RDATE:20270314T020000
END:DAYLIGHT
END:VTIMEZONE
BEGIN:VEVENT
UID:dc1b4afa-40ba-4fab-91b6-37fa58e4d020
DTSTAMP:20260423T185615Z
DESCRIPTION:
DTSTART;TZID=America/Denver:20251118T130000
DTEND;TZID=America/Denver:20251118T160000
LOCATION:
SUMMARY:Pinochle
END:VEVENT
END:VCALENDAR
