BEGIN:VCALENDAR
VERSION:2.0
PRODID:-//www.rmdc.net//NONSGML kigkonsult.se iCalcreator 2.30.10//
CALSCALE:GREGORIAN
METHOD:PUBLISH
UID:c68ef5dd-7fff-470a-b13f-f048fbee226e
X-WR-CALDESC:Join us for a gentle exercise class!
X-WR-RELCALID:c8af433f540b053c38dffadbff8c686d
X-WR-TIMEZONE:America/Denver
BEGIN:VTIMEZONE
TZID:America/Denver
BEGIN:STANDARD
TZNAME:MST
DTSTART:20251102T020000
TZOFFSETFROM:-0600
TZOFFSETTO:-0700
RDATE:20261101T020000
END:STANDARD
BEGIN:DAYLIGHT
TZNAME:MDT
DTSTART:20250309T020000
TZOFFSETFROM:-0700
TZOFFSETTO:-0600
RDATE:20260308T020000
RDATE:20270314T020000
END:DAYLIGHT
END:VTIMEZONE
BEGIN:VEVENT
UID:4fd5f7f8-9054-44e6-a4a1-e7875f8a7dec
DTSTAMP:20260423T184757Z
DESCRIPTION:Join us for a gentle exercise class!
DTSTART;TZID=America/Denver:20251119T103000
DTEND;TZID=America/Denver:20251119T110000
LOCATION:200 South Cruse\, Helena\, MT 59601 US
SUMMARY:Chi Gong
END:VEVENT
END:VCALENDAR
