BEGIN:VCALENDAR
VERSION:2.0
PRODID:-//www.rmdc.net//NONSGML kigkonsult.se iCalcreator 2.30.10//
CALSCALE:GREGORIAN
METHOD:PUBLISH
UID:e0a815d6-b938-40ee-ab94-e92c7b657cc5
X-WR-CALDESC:
X-WR-RELCALID:c80acbde50a20d4816180d3be3f4dbd4
X-WR-TIMEZONE:America/Denver
BEGIN:VTIMEZONE
TZID:America/Denver
BEGIN:STANDARD
TZNAME:MST
DTSTART:20251102T020000
TZOFFSETFROM:-0600
TZOFFSETTO:-0700
RDATE:20261101T020000
END:STANDARD
BEGIN:DAYLIGHT
TZNAME:MDT
DTSTART:20250309T020000
TZOFFSETFROM:-0700
TZOFFSETTO:-0600
RDATE:20260308T020000
RDATE:20270314T020000
END:DAYLIGHT
END:VTIMEZONE
BEGIN:VEVENT
UID:f52b1f2f-a3c1-42b9-a69f-9fa67cf1a767
DTSTAMP:20260423T184356Z
DESCRIPTION:
DTSTART;TZID=America/Denver:20251119T110000
DTEND;TZID=America/Denver:20251119T120000
LOCATION:200 South Cruse\, Helena\, MT 59601 US
SUMMARY:Tech Time With Mary
END:VEVENT
END:VCALENDAR
