BEGIN:VCALENDAR
VERSION:2.0
PRODID:-//www.rmdc.net//NONSGML kigkonsult.se iCalcreator 2.30.10//
CALSCALE:GREGORIAN
METHOD:PUBLISH
UID:b462c9b9-ba96-4968-8f0a-35ba4d520140
X-WR-CALDESC:
X-WR-RELCALID:7172539069901421519c9c422f0498e5
X-WR-TIMEZONE:America/Denver
BEGIN:VTIMEZONE
TZID:America/Denver
BEGIN:STANDARD
TZNAME:MST
DTSTART:20251102T020000
TZOFFSETFROM:-0600
TZOFFSETTO:-0700
RDATE:20261101T020000
END:STANDARD
BEGIN:DAYLIGHT
TZNAME:MDT
DTSTART:20250309T020000
TZOFFSETFROM:-0700
TZOFFSETTO:-0600
RDATE:20260308T020000
RDATE:20270314T020000
END:DAYLIGHT
END:VTIMEZONE
BEGIN:VEVENT
UID:7b912aea-ea25-4163-8ab7-a8d676fdefdb
DTSTAMP:20260423T185056Z
DESCRIPTION:
DTSTART;TZID=America/Denver:20251125T130000
DTEND;TZID=America/Denver:20251125T160000
LOCATION:
SUMMARY:Pinochle
END:VEVENT
END:VCALENDAR
