BEGIN:VCALENDAR
VERSION:2.0
PRODID:-//www.rmdc.net//NONSGML kigkonsult.se iCalcreator 2.30.10//
CALSCALE:GREGORIAN
METHOD:PUBLISH
UID:aa0d6b7d-b166-4f7b-8394-6441cfd4e05e
X-WR-CALDESC:Join us for a gentle exercise class!
X-WR-RELCALID:e642d3965811f5d265c342985058aadb
X-WR-TIMEZONE:America/Denver
BEGIN:VTIMEZONE
TZID:America/Denver
BEGIN:STANDARD
TZNAME:MST
DTSTART:20251102T020000
TZOFFSETFROM:-0600
TZOFFSETTO:-0700
RDATE:20261101T020000
END:STANDARD
BEGIN:DAYLIGHT
TZNAME:MDT
DTSTART:20250309T020000
TZOFFSETFROM:-0700
TZOFFSETTO:-0600
RDATE:20260308T020000
RDATE:20270314T020000
END:DAYLIGHT
END:VTIMEZONE
BEGIN:VEVENT
UID:abbb65b4-2d10-4d79-8b95-a3e320ab0d08
DTSTAMP:20260423T184456Z
DESCRIPTION:Join us for a gentle exercise class!
DTSTART;TZID=America/Denver:20251126T103000
DTEND;TZID=America/Denver:20251126T110000
LOCATION:200 South Cruse\, Helena\, MT 59601 US
SUMMARY:Chi Gong
END:VEVENT
END:VCALENDAR
