BEGIN:VCALENDAR
VERSION:2.0
PRODID:-//www.rmdc.net//NONSGML kigkonsult.se iCalcreator 2.30.10//
CALSCALE:GREGORIAN
METHOD:PUBLISH
UID:94001b77-049a-4660-ad73-66a78607df98
X-WR-CALDESC:Join us for a gentle exercise class!
X-WR-RELCALID:fb8343cd9d7f48b08d0d271807e98c00
X-WR-TIMEZONE:America/Denver
BEGIN:VTIMEZONE
TZID:America/Denver
BEGIN:STANDARD
TZNAME:MST
DTSTART:20251102T020000
TZOFFSETFROM:-0600
TZOFFSETTO:-0700
RDATE:20261101T020000
END:STANDARD
BEGIN:DAYLIGHT
TZNAME:MDT
DTSTART:20250309T020000
TZOFFSETFROM:-0700
TZOFFSETTO:-0600
RDATE:20260308T020000
RDATE:20270314T020000
END:DAYLIGHT
END:VTIMEZONE
BEGIN:VEVENT
UID:9ddf37f3-23e8-4ea1-8ff4-f1eed4330e6f
DTSTAMP:20260423T172230Z
DESCRIPTION:Join us for a gentle exercise class!
DTSTART;TZID=America/Denver:20251231T103000
DTEND;TZID=America/Denver:20251231T110000
LOCATION:200 South Cruse\, Helena\, MT 59601 US
SUMMARY:Chi Gong
END:VEVENT
END:VCALENDAR
