BEGIN:VCALENDAR
VERSION:2.0
PRODID:-//www.rmdc.net//NONSGML kigkonsult.se iCalcreator 2.30.10//
CALSCALE:GREGORIAN
METHOD:PUBLISH
UID:078af411-c89c-4e6b-8f66-0448eacf4740
X-WR-CALDESC:Join us for a gentle exercise class!
X-WR-RELCALID:9f44adcd7cb3fde770cbcc47cc78a4b4
X-WR-TIMEZONE:America/Denver
BEGIN:VTIMEZONE
TZID:America/Denver
BEGIN:STANDARD
TZNAME:MST
DTSTART:20251102T020000
TZOFFSETFROM:-0600
TZOFFSETTO:-0700
RDATE:20261101T020000
END:STANDARD
BEGIN:DAYLIGHT
TZNAME:MDT
DTSTART:20250309T020000
TZOFFSETFROM:-0700
TZOFFSETTO:-0600
RDATE:20260308T020000
RDATE:20270314T020000
END:DAYLIGHT
END:VTIMEZONE
BEGIN:VEVENT
UID:50873d21-86be-4baa-b6f3-6337c78807f1
DTSTAMP:20260423T160525Z
DESCRIPTION:Join us for a gentle exercise class!
DTSTART;TZID=America/Denver:20260121T103000
DTEND;TZID=America/Denver:20260121T110000
LOCATION:200 South Cruse\, Helena\, MT 59601 US
SUMMARY:Chi Gong
END:VEVENT
END:VCALENDAR
