BEGIN:VCALENDAR
VERSION:2.0
PRODID:-//www.rmdc.net//NONSGML kigkonsult.se iCalcreator 2.30.10//
CALSCALE:GREGORIAN
METHOD:PUBLISH
UID:b6984d63-4d79-4dd5-b091-8826d0e9a622
X-WR-CALDESC:
X-WR-RELCALID:85da66fa9d25e63e55fee404aea2848b
X-WR-TIMEZONE:America/Denver
BEGIN:VTIMEZONE
TZID:America/Denver
BEGIN:STANDARD
TZNAME:MST
DTSTART:20251102T020000
TZOFFSETFROM:-0600
TZOFFSETTO:-0700
RDATE:20261101T020000
END:STANDARD
BEGIN:DAYLIGHT
TZNAME:MDT
DTSTART:20250309T020000
TZOFFSETFROM:-0700
TZOFFSETTO:-0600
RDATE:20260308T020000
RDATE:20270314T020000
END:DAYLIGHT
END:VTIMEZONE
BEGIN:VEVENT
UID:5f0fd079-7661-477c-ac5e-7dd4b7b1d025
DTSTAMP:20260423T160947Z
DESCRIPTION:
DTSTART;TZID=America/Denver:20260127T090000
DTEND;TZID=America/Denver:20260127T120000
LOCATION:Neighborhood Center Card Room
SUMMARY:Crafty Quilters
END:VEVENT
END:VCALENDAR
