BEGIN:VCALENDAR
VERSION:2.0
PRODID:-//www.rmdc.net//NONSGML kigkonsult.se iCalcreator 2.30.10//
CALSCALE:GREGORIAN
METHOD:PUBLISH
UID:956530cf-a8bf-4cfd-add7-c150dc0f7581
X-WR-CALDESC:
X-WR-RELCALID:ab829ca476ce1650a61a0d14eacd61c1
X-WR-TIMEZONE:America/Denver
BEGIN:VTIMEZONE
TZID:America/Denver
BEGIN:STANDARD
TZNAME:MST
DTSTART:20251102T020000
TZOFFSETFROM:-0600
TZOFFSETTO:-0700
RDATE:20261101T020000
END:STANDARD
BEGIN:DAYLIGHT
TZNAME:MDT
DTSTART:20250309T020000
TZOFFSETFROM:-0700
TZOFFSETTO:-0600
RDATE:20260308T020000
RDATE:20270314T020000
END:DAYLIGHT
END:VTIMEZONE
BEGIN:VEVENT
UID:26aec9e2-14b2-4ec6-bd14-fd44fd99220b
DTSTAMP:20260423T145657Z
DESCRIPTION:
DTSTART;TZID=America/Denver:20260210T130000
DTEND;TZID=America/Denver:20260210T160000
LOCATION:
SUMMARY:Pinochle
END:VEVENT
END:VCALENDAR
