BEGIN:VCALENDAR
VERSION:2.0
PRODID:-//www.rmdc.net//NONSGML kigkonsult.se iCalcreator 2.30.10//
CALSCALE:GREGORIAN
METHOD:PUBLISH
UID:1e8f4fd9-e1b9-4c45-b913-d0c6d97cf472
X-WR-CALDESC:Join us for a gentle exercise class!
X-WR-RELCALID:935e7486af0aee4e6697db753adc1363
X-WR-TIMEZONE:America/Denver
BEGIN:VTIMEZONE
TZID:America/Denver
BEGIN:STANDARD
TZNAME:MST
DTSTART:20251102T020000
TZOFFSETFROM:-0600
TZOFFSETTO:-0700
RDATE:20261101T020000
END:STANDARD
BEGIN:DAYLIGHT
TZNAME:MDT
DTSTART:20250309T020000
TZOFFSETFROM:-0700
TZOFFSETTO:-0600
RDATE:20260308T020000
RDATE:20270314T020000
END:DAYLIGHT
END:VTIMEZONE
BEGIN:VEVENT
UID:710ce4ab-574a-4e08-bc1b-b7606686bdbd
DTSTAMP:20260423T142943Z
DESCRIPTION:Join us for a gentle exercise class!
DTSTART;TZID=America/Denver:20260225T103000
DTEND;TZID=America/Denver:20260225T110000
LOCATION:200 South Cruse\, Helena\, MT 59601 US
SUMMARY:Chi Gong
END:VEVENT
END:VCALENDAR
