BEGIN:VCALENDAR
VERSION:2.0
PRODID:-//www.rmdc.net//NONSGML kigkonsult.se iCalcreator 2.30.10//
CALSCALE:GREGORIAN
METHOD:PUBLISH
UID:3f6d7657-e6cc-4e8f-9215-8fdab0d67542
X-WR-CALDESC:
X-WR-RELCALID:37cb3c5ff18ee80cff7f1b8d667e1b32
X-WR-TIMEZONE:America/Denver
BEGIN:VTIMEZONE
TZID:America/Denver
BEGIN:STANDARD
TZNAME:MST
DTSTART:20251102T020000
TZOFFSETFROM:-0600
TZOFFSETTO:-0700
RDATE:20261101T020000
END:STANDARD
BEGIN:DAYLIGHT
TZNAME:MDT
DTSTART:20260308T020000
TZOFFSETFROM:-0700
TZOFFSETTO:-0600
RDATE:20270314T020000
END:DAYLIGHT
END:VTIMEZONE
BEGIN:VEVENT
UID:88d61da7-86a7-4220-b93c-9c8db64d5dc1
DTSTAMP:20260423T131952Z
DESCRIPTION:
DTSTART;TZID=America/Denver:20260310T130000
DTEND;TZID=America/Denver:20260310T160000
LOCATION:
SUMMARY:Pinochle
END:VEVENT
END:VCALENDAR
