BEGIN:VCALENDAR
VERSION:2.0
PRODID:-//www.rmdc.net//NONSGML kigkonsult.se iCalcreator 2.30.10//
CALSCALE:GREGORIAN
METHOD:PUBLISH
UID:8b66893a-ee8f-4213-98b6-59e89c46ddb9
X-WR-CALDESC:
X-WR-RELCALID:64b99dc464bb2670002bcb6693101c00
X-WR-TIMEZONE:America/Denver
BEGIN:VTIMEZONE
TZID:America/Denver
BEGIN:STANDARD
TZNAME:MST
DTSTART:20251102T020000
TZOFFSETFROM:-0600
TZOFFSETTO:-0700
RDATE:20261101T020000
END:STANDARD
BEGIN:DAYLIGHT
TZNAME:MDT
DTSTART:20260308T020000
TZOFFSETFROM:-0700
TZOFFSETTO:-0600
RDATE:20270314T020000
END:DAYLIGHT
END:VTIMEZONE
BEGIN:VEVENT
UID:46f62b7e-7001-493b-a00f-571db06d70be
DTSTAMP:20260423T131727Z
DESCRIPTION:
DTSTART;TZID=America/Denver:20260324T130000
DTEND;TZID=America/Denver:20260324T160000
LOCATION:
SUMMARY:Pinochle
END:VEVENT
END:VCALENDAR
