BEGIN:VCALENDAR
VERSION:2.0
PRODID:-//www.rmdc.net//NONSGML kigkonsult.se iCalcreator 2.30.10//
CALSCALE:GREGORIAN
METHOD:PUBLISH
UID:0cc5df0c-bb02-45f5-92cc-ed3c66a1a9cb
X-WR-CALDESC:
X-WR-RELCALID:3a9127e02dbe0f719c01685eb4ef3b03
X-WR-TIMEZONE:America/Denver
BEGIN:VTIMEZONE
TZID:America/Denver
BEGIN:STANDARD
TZNAME:MST
DTSTART:20251102T020000
TZOFFSETFROM:-0600
TZOFFSETTO:-0700
RDATE:20261101T020000
END:STANDARD
BEGIN:DAYLIGHT
TZNAME:MDT
DTSTART:20260308T020000
TZOFFSETFROM:-0700
TZOFFSETTO:-0600
RDATE:20270314T020000
END:DAYLIGHT
END:VTIMEZONE
BEGIN:VEVENT
UID:9165ef98-2b7f-41aa-83f4-a9f9ea23507f
DTSTAMP:20260423T121245Z
DESCRIPTION:
DTSTART;TZID=America/Denver:20260407T090000
DTEND;TZID=America/Denver:20260407T120000
LOCATION:Neighborhood Center Card Room
SUMMARY:Crafty Quilters
END:VEVENT
END:VCALENDAR
