BEGIN:VCALENDAR
VERSION:2.0
PRODID:-//www.rmdc.net//NONSGML kigkonsult.se iCalcreator 2.30.10//
CALSCALE:GREGORIAN
METHOD:PUBLISH
UID:099203cd-dc17-4fc6-bdeb-730bdb77152e
X-WR-CALDESC:
X-WR-RELCALID:ced81c0e16e39dab9b5222185cc639c3
X-WR-TIMEZONE:America/Denver
BEGIN:VTIMEZONE
TZID:America/Denver
BEGIN:STANDARD
TZNAME:MST
DTSTART:20251102T020000
TZOFFSETFROM:-0600
TZOFFSETTO:-0700
RDATE:20261101T020000
END:STANDARD
BEGIN:DAYLIGHT
TZNAME:MDT
DTSTART:20260308T020000
TZOFFSETFROM:-0700
TZOFFSETTO:-0600
RDATE:20270314T020000
END:DAYLIGHT
END:VTIMEZONE
BEGIN:VEVENT
UID:ba31c286-9ef5-4f35-951b-5faba85f5f54
DTSTAMP:20260423T120003Z
DESCRIPTION:
DTSTART;TZID=America/Denver:20260407T130000
DTEND;TZID=America/Denver:20260407T150000
LOCATION:Rocky Neighborhood Center Dance Floor
SUMMARY:Bridge
END:VEVENT
END:VCALENDAR
