BEGIN:VCALENDAR
VERSION:2.0
PRODID:-//www.rmdc.net//NONSGML kigkonsult.se iCalcreator 2.30.10//
CALSCALE:GREGORIAN
METHOD:PUBLISH
UID:c128f75a-f711-4815-b39c-68d41487a041
X-WR-CALDESC:Join us for a gentle exercise class!
X-WR-RELCALID:f24b7712cb1b1b7331a618b62a2681ae
X-WR-TIMEZONE:America/Denver
BEGIN:VTIMEZONE
TZID:America/Denver
BEGIN:STANDARD
TZNAME:MST
DTSTART:20251102T020000
TZOFFSETFROM:-0600
TZOFFSETTO:-0700
RDATE:20261101T020000
END:STANDARD
BEGIN:DAYLIGHT
TZNAME:MDT
DTSTART:20260308T020000
TZOFFSETFROM:-0700
TZOFFSETTO:-0600
RDATE:20270314T020000
END:DAYLIGHT
END:VTIMEZONE
BEGIN:VEVENT
UID:53eb670b-7e57-4ddd-99aa-492f61f1e83a
DTSTAMP:20260423T121056Z
DESCRIPTION:Join us for a gentle exercise class!
DTSTART;TZID=America/Denver:20260408T103000
DTEND;TZID=America/Denver:20260408T110000
LOCATION:200 South Cruse\, Helena\, MT 59601 US
SUMMARY:Chi Gong
END:VEVENT
END:VCALENDAR
