BEGIN:VCALENDAR
VERSION:2.0
PRODID:-//www.rmdc.net//NONSGML kigkonsult.se iCalcreator 2.30.10//
CALSCALE:GREGORIAN
METHOD:PUBLISH
UID:3f3d2370-b5f7-486b-a035-bbfa154701b3
X-WR-CALDESC:Join us for a gentle exercise class!
X-WR-RELCALID:88416bde4fc37df6631ea6fe2ad4f2ed
X-WR-TIMEZONE:America/Denver
BEGIN:VTIMEZONE
TZID:America/Denver
BEGIN:STANDARD
TZNAME:MST
DTSTART:20251102T020000
TZOFFSETFROM:-0600
TZOFFSETTO:-0700
RDATE:20261101T020000
END:STANDARD
BEGIN:DAYLIGHT
TZNAME:MDT
DTSTART:20260308T020000
TZOFFSETFROM:-0700
TZOFFSETTO:-0600
RDATE:20270314T020000
END:DAYLIGHT
END:VTIMEZONE
BEGIN:VEVENT
UID:3dd260e8-cfca-4df0-8d62-0c8bf23b31ef
DTSTAMP:20260423T145516Z
DESCRIPTION:Join us for a gentle exercise class!
DTSTART;TZID=America/Denver:20260422T103000
DTEND;TZID=America/Denver:20260422T110000
LOCATION:200 South Cruse\, Helena\, MT 59601 US
SUMMARY:Chi Gong
END:VEVENT
END:VCALENDAR
