BEGIN:VCALENDAR
VERSION:2.0
PRODID:-//www.rmdc.net//NONSGML kigkonsult.se iCalcreator 2.30.10//
CALSCALE:GREGORIAN
METHOD:PUBLISH
UID:d60a1207-6fd8-4d31-81e0-5ff8235f265f
X-WR-CALDESC:Join us for a gentle exercise class!
X-WR-RELCALID:be3180d929b76f6906c50141df8e5c0d
X-WR-TIMEZONE:America/Denver
BEGIN:VTIMEZONE
TZID:America/Denver
BEGIN:STANDARD
TZNAME:MST
DTSTART:20251102T020000
TZOFFSETFROM:-0600
TZOFFSETTO:-0700
RDATE:20261101T020000
RDATE:20271107T020000
END:STANDARD
BEGIN:DAYLIGHT
TZNAME:MDT
DTSTART:20260308T020000
TZOFFSETFROM:-0700
TZOFFSETTO:-0600
RDATE:20270314T020000
END:DAYLIGHT
END:VTIMEZONE
BEGIN:VEVENT
UID:25293eba-f4f5-441e-a8d8-691c9295602c
DTSTAMP:20260423T133356Z
DESCRIPTION:Join us for a gentle exercise class!
DTSTART;TZID=America/Denver:20260513T103000
DTEND;TZID=America/Denver:20260513T110000
LOCATION:200 South Cruse\, Helena\, MT 59601 US
SUMMARY:Chi Gong
END:VEVENT
END:VCALENDAR
