BEGIN:VCALENDAR
VERSION:2.0
PRODID:-//www.rmdc.net//NONSGML kigkonsult.se iCalcreator 2.30.10//
CALSCALE:GREGORIAN
METHOD:PUBLISH
UID:ecef6bf5-0884-4d22-9bea-e2b8f5417133
X-WR-CALDESC:
X-WR-RELCALID:bc69103a12e138f4099c983d2690ec18
X-WR-TIMEZONE:America/Denver
BEGIN:VTIMEZONE
TZID:America/Denver
BEGIN:STANDARD
TZNAME:MST
DTSTART:20251102T020000
TZOFFSETFROM:-0600
TZOFFSETTO:-0700
RDATE:20261101T020000
RDATE:20271107T020000
END:STANDARD
BEGIN:DAYLIGHT
TZNAME:MDT
DTSTART:20260308T020000
TZOFFSETFROM:-0700
TZOFFSETTO:-0600
RDATE:20270314T020000
END:DAYLIGHT
END:VTIMEZONE
BEGIN:VEVENT
UID:a2bfa82f-ff9e-447c-ae82-5d08b90eab22
DTSTAMP:20260423T133458Z
DESCRIPTION:
DTSTART;TZID=America/Denver:20260519T130000
DTEND;TZID=America/Denver:20260519T160000
LOCATION:
SUMMARY:Pinochle
END:VEVENT
END:VCALENDAR
