BEGIN:VCALENDAR
VERSION:2.0
PRODID:-//www.rmdc.net//NONSGML kigkonsult.se iCalcreator 2.30.10//
CALSCALE:GREGORIAN
METHOD:PUBLISH
UID:1bf7569a-c82f-432a-9379-07c836d4522b
X-WR-CALDESC:Join us for a gentle exercise class!
X-WR-RELCALID:46fc30b3f07d381a18c7c760ea61efae
X-WR-TIMEZONE:America/Denver
BEGIN:VTIMEZONE
TZID:America/Denver
BEGIN:STANDARD
TZNAME:MST
DTSTART:20251102T020000
TZOFFSETFROM:-0600
TZOFFSETTO:-0700
RDATE:20261101T020000
RDATE:20271107T020000
END:STANDARD
BEGIN:DAYLIGHT
TZNAME:MDT
DTSTART:20260308T020000
TZOFFSETFROM:-0700
TZOFFSETTO:-0600
RDATE:20270314T020000
END:DAYLIGHT
END:VTIMEZONE
BEGIN:VEVENT
UID:59033ef8-8b25-4828-b528-b5d6bf174624
DTSTAMP:20260423T133421Z
DESCRIPTION:Join us for a gentle exercise class!
DTSTART;TZID=America/Denver:20260520T103000
DTEND;TZID=America/Denver:20260520T110000
LOCATION:200 South Cruse\, Helena\, MT 59601 US
SUMMARY:Chi Gong
END:VEVENT
END:VCALENDAR
