BEGIN:VCALENDAR
VERSION:2.0
PRODID:-//www.rmdc.net//NONSGML kigkonsult.se iCalcreator 2.30.10//
CALSCALE:GREGORIAN
METHOD:PUBLISH
UID:183bb838-236b-4ee3-b95f-d484a2d4b7cd
X-WR-CALDESC:Join us for a gentle exercise class!
X-WR-RELCALID:ca23fa601197139f913639b56ddab030
X-WR-TIMEZONE:America/Denver
BEGIN:VTIMEZONE
TZID:America/Denver
BEGIN:STANDARD
TZNAME:MST
DTSTART:20251102T020000
TZOFFSETFROM:-0600
TZOFFSETTO:-0700
RDATE:20261101T020000
RDATE:20271107T020000
END:STANDARD
BEGIN:DAYLIGHT
TZNAME:MDT
DTSTART:20260308T020000
TZOFFSETFROM:-0700
TZOFFSETTO:-0600
RDATE:20270314T020000
END:DAYLIGHT
END:VTIMEZONE
BEGIN:VEVENT
UID:2f6e521d-e7ac-4dad-880f-53d0829835eb
DTSTAMP:20260423T133354Z
DESCRIPTION:Join us for a gentle exercise class!
DTSTART;TZID=America/Denver:20260527T103000
DTEND;TZID=America/Denver:20260527T110000
LOCATION:200 South Cruse\, Helena\, MT 59601 US
SUMMARY:Chi Gong
END:VEVENT
END:VCALENDAR
