BEGIN:VCALENDAR
VERSION:2.0
PRODID:-//www.rmdc.net//NONSGML kigkonsult.se iCalcreator 2.30.10//
CALSCALE:GREGORIAN
METHOD:PUBLISH
UID:73e9f47a-a1d1-4e36-834a-4e9b2352e1ad
X-WR-CALDESC:
X-WR-RELCALID:199c1fe38ff25357133fbf0e4e5cf6b3
X-WR-TIMEZONE:America/Denver
BEGIN:VTIMEZONE
TZID:America/Denver
BEGIN:STANDARD
TZNAME:MST
DTSTART:20251102T020000
TZOFFSETFROM:-0600
TZOFFSETTO:-0700
RDATE:20261101T020000
RDATE:20271107T020000
END:STANDARD
BEGIN:DAYLIGHT
TZNAME:MDT
DTSTART:20260308T020000
TZOFFSETFROM:-0700
TZOFFSETTO:-0600
RDATE:20270314T020000
END:DAYLIGHT
END:VTIMEZONE
BEGIN:VEVENT
UID:a30c5446-ec62-4048-8c6a-fffc34014629
DTSTAMP:20260423T145642Z
DESCRIPTION:
DTSTART;TZID=America/Denver:20260623T130000
DTEND;TZID=America/Denver:20260623T160000
LOCATION:
SUMMARY:Pinochle
END:VEVENT
END:VCALENDAR
