BEGIN:VCALENDAR
VERSION:2.0
PRODID:-//www.rmdc.net//NONSGML kigkonsult.se iCalcreator 2.30.10//
CALSCALE:GREGORIAN
METHOD:PUBLISH
UID:c5081e94-a7cf-454d-8adf-217e39826c22
X-WR-CALDESC:Join us for a gentle exercise class!
X-WR-RELCALID:ef37c2e83ed2c4e050c9d576dd6380df
X-WR-TIMEZONE:America/Denver
BEGIN:VTIMEZONE
TZID:America/Denver
BEGIN:STANDARD
TZNAME:MST
DTSTART:20251102T020000
TZOFFSETFROM:-0600
TZOFFSETTO:-0700
RDATE:20261101T020000
RDATE:20271107T020000
END:STANDARD
BEGIN:DAYLIGHT
TZNAME:MDT
DTSTART:20260308T020000
TZOFFSETFROM:-0700
TZOFFSETTO:-0600
RDATE:20270314T020000
END:DAYLIGHT
END:VTIMEZONE
BEGIN:VEVENT
UID:8fc2f67f-83ca-4635-a196-b90a1bbc3a75
DTSTAMP:20260423T180421Z
DESCRIPTION:Join us for a gentle exercise class!
DTSTART;TZID=America/Denver:20260805T103000
DTEND;TZID=America/Denver:20260805T110000
LOCATION:200 South Cruse\, Helena\, MT 59601 US
SUMMARY:Chi Gong
END:VEVENT
END:VCALENDAR
