BEGIN:VCALENDAR
VERSION:2.0
PRODID:-//www.rmdc.net//NONSGML kigkonsult.se iCalcreator 2.30.10//
CALSCALE:GREGORIAN
METHOD:PUBLISH
UID:ef1d372c-f183-4fe8-95f8-8d4cf84904a6
X-WR-CALDESC:Join us for a gentle exercise class!
X-WR-RELCALID:4a9232aa891c0f3c5375c2b72dc2df38
X-WR-TIMEZONE:America/Denver
BEGIN:VTIMEZONE
TZID:America/Denver
BEGIN:STANDARD
TZNAME:MST
DTSTART:20251102T020000
TZOFFSETFROM:-0600
TZOFFSETTO:-0700
RDATE:20261101T020000
RDATE:20271107T020000
END:STANDARD
BEGIN:DAYLIGHT
TZNAME:MDT
DTSTART:20260308T020000
TZOFFSETFROM:-0700
TZOFFSETTO:-0600
RDATE:20270314T020000
END:DAYLIGHT
END:VTIMEZONE
BEGIN:VEVENT
UID:86735276-4f2e-492a-99cb-b3ee4fdc5004
DTSTAMP:20260423T193608Z
DESCRIPTION:Join us for a gentle exercise class!
DTSTART;TZID=America/Denver:20260902T103000
DTEND;TZID=America/Denver:20260902T110000
LOCATION:200 South Cruse\, Helena\, MT 59601 US
SUMMARY:Chi Gong
END:VEVENT
END:VCALENDAR
