BEGIN:VCALENDAR
VERSION:2.0
PRODID:-//www.rmdc.net//NONSGML kigkonsult.se iCalcreator 2.30.10//
CALSCALE:GREGORIAN
METHOD:PUBLISH
UID:160bd96a-bf24-4952-aad5-e1cee6921866
X-WR-CALDESC:
X-WR-RELCALID:e09dcb80dcef897382e42b3fe0dbe80f
X-WR-TIMEZONE:America/Denver
BEGIN:VTIMEZONE
TZID:America/Denver
BEGIN:STANDARD
TZNAME:MST
DTSTART:20251102T020000
TZOFFSETFROM:-0600
TZOFFSETTO:-0700
RDATE:20261101T020000
RDATE:20271107T020000
END:STANDARD
BEGIN:DAYLIGHT
TZNAME:MDT
DTSTART:20260308T020000
TZOFFSETFROM:-0700
TZOFFSETTO:-0600
RDATE:20270314T020000
END:DAYLIGHT
END:VTIMEZONE
BEGIN:VEVENT
UID:10822c36-c359-40e9-acf0-3c0c852f7aa1
DTSTAMP:20260423T193146Z
DESCRIPTION:
DTSTART;TZID=America/Denver:20260908T130000
DTEND;TZID=America/Denver:20260908T160000
LOCATION:
SUMMARY:Pinochle
END:VEVENT
END:VCALENDAR
