BEGIN:VCALENDAR
VERSION:2.0
PRODID:-//www.rmdc.net//NONSGML kigkonsult.se iCalcreator 2.30.10//
CALSCALE:GREGORIAN
METHOD:PUBLISH
UID:866e3da6-083e-4476-9ab2-1baa7b937251
X-WR-CALDESC:
X-WR-RELCALID:9bffb67d78b601ed13e13105ab7054f8
X-WR-TIMEZONE:America/Denver
BEGIN:VTIMEZONE
TZID:America/Denver
BEGIN:STANDARD
TZNAME:MST
DTSTART:20251102T020000
TZOFFSETFROM:-0600
TZOFFSETTO:-0700
RDATE:20261101T020000
RDATE:20271107T020000
END:STANDARD
BEGIN:DAYLIGHT
TZNAME:MDT
DTSTART:20260308T020000
TZOFFSETFROM:-0700
TZOFFSETTO:-0600
RDATE:20270314T020000
RDATE:20280312T020000
END:DAYLIGHT
END:VTIMEZONE
BEGIN:VEVENT
UID:2b533641-38f4-4d78-b0e8-4ac7ee199479
DTSTAMP:20260423T193949Z
DESCRIPTION:
DTSTART;TZID=America/Denver:20260915T130000
DTEND;TZID=America/Denver:20260915T160000
LOCATION:
SUMMARY:Pinochle
END:VEVENT
END:VCALENDAR
