BEGIN:VCALENDAR
VERSION:2.0
PRODID:-//www.rmdc.net//NONSGML kigkonsult.se iCalcreator 2.30.10//
CALSCALE:GREGORIAN
METHOD:PUBLISH
UID:6a8e09c2-9970-4e32-8aa1-4ba6d4c4a5b6
X-WR-CALDESC:Join us for a gentle exercise class!
X-WR-RELCALID:9e90d4d6bf560cb352eb880e91a84de0
X-WR-TIMEZONE:America/Denver
BEGIN:VTIMEZONE
TZID:America/Denver
BEGIN:STANDARD
TZNAME:MST
DTSTART:20251102T020000
TZOFFSETFROM:-0600
TZOFFSETTO:-0700
RDATE:20261101T020000
RDATE:20271107T020000
END:STANDARD
BEGIN:DAYLIGHT
TZNAME:MDT
DTSTART:20260308T020000
TZOFFSETFROM:-0700
TZOFFSETTO:-0600
RDATE:20270314T020000
RDATE:20280312T020000
END:DAYLIGHT
END:VTIMEZONE
BEGIN:VEVENT
UID:64d593cb-a1a8-46c5-bd1f-c5cdf60b5aad
DTSTAMP:20260423T193608Z
DESCRIPTION:Join us for a gentle exercise class!
DTSTART;TZID=America/Denver:20260923T103000
DTEND;TZID=America/Denver:20260923T110000
LOCATION:200 South Cruse\, Helena\, MT 59601 US
SUMMARY:Chi Gong
END:VEVENT
END:VCALENDAR
