BEGIN:VCALENDAR
VERSION:2.0
PRODID:-//www.rmdc.net//NONSGML kigkonsult.se iCalcreator 2.30.10//
CALSCALE:GREGORIAN
METHOD:PUBLISH
UID:d68db6ea-8df3-4907-9f31-983ca59a4a76
X-WR-CALDESC:Join us for a gentle exercise class!
X-WR-RELCALID:269ec015a3e1edfa7d1d238e0f6d06f3
X-WR-TIMEZONE:America/Denver
BEGIN:VTIMEZONE
TZID:America/Denver
BEGIN:STANDARD
TZNAME:MST
DTSTART:20251102T020000
TZOFFSETFROM:-0600
TZOFFSETTO:-0700
RDATE:20261101T020000
RDATE:20271107T020000
END:STANDARD
BEGIN:DAYLIGHT
TZNAME:MDT
DTSTART:20260308T020000
TZOFFSETFROM:-0700
TZOFFSETTO:-0600
RDATE:20270314T020000
RDATE:20280312T020000
END:DAYLIGHT
END:VTIMEZONE
BEGIN:VEVENT
UID:e29a7a45-f896-4deb-9756-02b6439e9b73
DTSTAMP:20260423T204347Z
DESCRIPTION:Join us for a gentle exercise class!
DTSTART;TZID=America/Denver:20261014T103000
DTEND;TZID=America/Denver:20261014T110000
LOCATION:200 South Cruse\, Helena\, MT 59601 US
SUMMARY:Chi Gong
END:VEVENT
END:VCALENDAR
