BEGIN:VCALENDAR
VERSION:2.0
PRODID:-//www.rmdc.net//NONSGML kigkonsult.se iCalcreator 2.30.10//
CALSCALE:GREGORIAN
METHOD:PUBLISH
UID:e8e486f0-1153-4ff7-94af-6d218f007464
X-WR-CALDESC:
X-WR-RELCALID:de972ce00b33f0a46999b1ca346946f7
X-WR-TIMEZONE:America/Denver
BEGIN:VTIMEZONE
TZID:America/Denver
BEGIN:STANDARD
TZNAME:MST
DTSTART:20251102T020000
TZOFFSETFROM:-0600
TZOFFSETTO:-0700
RDATE:20261101T020000
RDATE:20271107T020000
END:STANDARD
BEGIN:DAYLIGHT
TZNAME:MDT
DTSTART:20260308T020000
TZOFFSETFROM:-0700
TZOFFSETTO:-0600
RDATE:20270314T020000
RDATE:20280312T020000
END:DAYLIGHT
END:VTIMEZONE
BEGIN:VEVENT
UID:045fc5f4-b125-4079-9224-2added419281
DTSTAMP:20260423T203921Z
DESCRIPTION:
DTSTART;TZID=America/Denver:20261020T130000
DTEND;TZID=America/Denver:20261020T160000
LOCATION:
SUMMARY:Pinochle
END:VEVENT
END:VCALENDAR
