BEGIN:VCALENDAR
VERSION:2.0
PRODID:-//www.rmdc.net//NONSGML kigkonsult.se iCalcreator 2.30.10//
CALSCALE:GREGORIAN
METHOD:PUBLISH
UID:c7277758-b00f-4503-99ec-00bd72fa16f7
X-WR-CALDESC:
X-WR-RELCALID:8de704aab1a475bff901f2e171987d2b
X-WR-TIMEZONE:America/Denver
BEGIN:VTIMEZONE
TZID:America/Denver
BEGIN:STANDARD
TZNAME:MST
DTSTART:20261101T020000
TZOFFSETFROM:-0600
TZOFFSETTO:-0700
RDATE:20271107T020000
END:STANDARD
BEGIN:DAYLIGHT
TZNAME:MDT
DTSTART:20260308T020000
TZOFFSETFROM:-0700
TZOFFSETTO:-0600
RDATE:20270314T020000
RDATE:20280312T020000
END:DAYLIGHT
END:VTIMEZONE
BEGIN:VEVENT
UID:4c84d426-f143-41ae-b42c-44f1a35f5d86
DTSTAMP:20260423T220058Z
DESCRIPTION:
DTSTART;TZID=America/Denver:20261103T130000
DTEND;TZID=America/Denver:20261103T150000
LOCATION:Rocky Neighborhood Center Dance Floor
SUMMARY:Bridge
END:VEVENT
END:VCALENDAR
