BEGIN:VCALENDAR
VERSION:2.0
PRODID:-//www.rmdc.net//NONSGML kigkonsult.se iCalcreator 2.30.10//
CALSCALE:GREGORIAN
METHOD:PUBLISH
UID:bd3d04c7-97fe-4b7d-8f42-52d9bcf22523
X-WR-CALDESC:
X-WR-RELCALID:ca36ef052d11461cf41fb8c1fd376c5d
X-WR-TIMEZONE:America/Denver
BEGIN:VTIMEZONE
TZID:America/Denver
BEGIN:STANDARD
TZNAME:MST
DTSTART:20261101T020000
TZOFFSETFROM:-0600
TZOFFSETTO:-0700
RDATE:20271107T020000
END:STANDARD
BEGIN:DAYLIGHT
TZNAME:MDT
DTSTART:20260308T020000
TZOFFSETFROM:-0700
TZOFFSETTO:-0600
RDATE:20270314T020000
RDATE:20280312T020000
END:DAYLIGHT
END:VTIMEZONE
BEGIN:VEVENT
UID:58cc3b27-0d4c-473b-bc37-938fcbe5c178
DTSTAMP:20260423T220406Z
DESCRIPTION:
DTSTART;TZID=America/Denver:20261117T130000
DTEND;TZID=America/Denver:20261117T160000
LOCATION:
SUMMARY:Pinochle
END:VEVENT
END:VCALENDAR
