BEGIN:VCALENDAR
VERSION:2.0
PRODID:-//www.rmdc.net//NONSGML kigkonsult.se iCalcreator 2.30.10//
CALSCALE:GREGORIAN
METHOD:PUBLISH
UID:457c8d68-ef29-40f5-9dd7-0fe615cfa81d
X-WR-CALDESC:Join us for a gentle exercise class!
X-WR-RELCALID:7a451e4921262e8a7ad9c9ae72a997f8
X-WR-TIMEZONE:America/Denver
BEGIN:VTIMEZONE
TZID:America/Denver
BEGIN:STANDARD
TZNAME:MST
DTSTART:20261101T020000
TZOFFSETFROM:-0600
TZOFFSETTO:-0700
RDATE:20271107T020000
END:STANDARD
BEGIN:DAYLIGHT
TZNAME:MDT
DTSTART:20260308T020000
TZOFFSETFROM:-0700
TZOFFSETTO:-0600
RDATE:20270314T020000
RDATE:20280312T020000
END:DAYLIGHT
END:VTIMEZONE
BEGIN:VEVENT
UID:d108f9a3-1f09-4b0c-b9b6-d24359af3e58
DTSTAMP:20260423T220354Z
DESCRIPTION:Join us for a gentle exercise class!
DTSTART;TZID=America/Denver:20261118T103000
DTEND;TZID=America/Denver:20261118T110000
LOCATION:200 South Cruse\, Helena\, MT 59601 US
SUMMARY:Chi Gong
END:VEVENT
END:VCALENDAR
