BEGIN:VCALENDAR
VERSION:2.0
PRODID:-//www.rmdc.net//NONSGML kigkonsult.se iCalcreator 2.30.10//
CALSCALE:GREGORIAN
METHOD:PUBLISH
UID:dc5032c5-9dcf-4549-a19b-ff48fd23c93d
X-WR-CALDESC:
X-WR-RELCALID:ec4599aa4aaab2ede65151b6e463ea3c
X-WR-TIMEZONE:America/Denver
BEGIN:VTIMEZONE
TZID:America/Denver
BEGIN:STANDARD
TZNAME:MST
DTSTART:20261101T020000
TZOFFSETFROM:-0600
TZOFFSETTO:-0700
RDATE:20271107T020000
END:STANDARD
BEGIN:DAYLIGHT
TZNAME:MDT
DTSTART:20260308T020000
TZOFFSETFROM:-0700
TZOFFSETTO:-0600
RDATE:20270314T020000
RDATE:20280312T020000
END:DAYLIGHT
END:VTIMEZONE
BEGIN:VEVENT
UID:8762668a-c4bb-497e-9faa-56fc4a4b3bc7
DTSTAMP:20260423T220406Z
DESCRIPTION:
DTSTART;TZID=America/Denver:20261124T130000
DTEND;TZID=America/Denver:20261124T160000
LOCATION:
SUMMARY:Pinochle
END:VEVENT
END:VCALENDAR
