BEGIN:VCALENDAR
VERSION:2.0
PRODID:-//www.rmdc.net//NONSGML kigkonsult.se iCalcreator 2.30.10//
CALSCALE:GREGORIAN
METHOD:PUBLISH
UID:7eac286e-6d06-475f-b10a-7fd100f7540d
X-WR-CALDESC:Join us for a gentle exercise class!
X-WR-RELCALID:80133db6bb3403868bc962c204b641d2
X-WR-TIMEZONE:America/Denver
BEGIN:VTIMEZONE
TZID:America/Denver
BEGIN:STANDARD
TZNAME:MST
DTSTART:20261101T020000
TZOFFSETFROM:-0600
TZOFFSETTO:-0700
RDATE:20271107T020000
END:STANDARD
BEGIN:DAYLIGHT
TZNAME:MDT
DTSTART:20260308T020000
TZOFFSETFROM:-0700
TZOFFSETTO:-0600
RDATE:20270314T020000
RDATE:20280312T020000
END:DAYLIGHT
END:VTIMEZONE
BEGIN:VEVENT
UID:1fd2f820-5f81-46d1-95fc-3a87bc357d8c
DTSTAMP:20260423T233136Z
DESCRIPTION:Join us for a gentle exercise class!
DTSTART;TZID=America/Denver:20261209T103000
DTEND;TZID=America/Denver:20261209T110000
LOCATION:200 South Cruse\, Helena\, MT 59601 US
SUMMARY:Chi Gong
END:VEVENT
END:VCALENDAR
