BEGIN:VCALENDAR
VERSION:2.0
PRODID:-//www.rmdc.net//NONSGML kigkonsult.se iCalcreator 2.30.10//
CALSCALE:GREGORIAN
METHOD:PUBLISH
UID:15eb9e40-55f4-42f6-9c23-df0e923b1175
X-WR-CALDESC:
X-WR-RELCALID:5c14903eabaa65f479d25469f050ca54
X-WR-TIMEZONE:America/Denver
BEGIN:VTIMEZONE
TZID:America/Denver
BEGIN:STANDARD
TZNAME:MST
DTSTART:20261101T020000
TZOFFSETFROM:-0600
TZOFFSETTO:-0700
RDATE:20271107T020000
END:STANDARD
BEGIN:DAYLIGHT
TZNAME:MDT
DTSTART:20260308T020000
TZOFFSETFROM:-0700
TZOFFSETTO:-0600
RDATE:20270314T020000
RDATE:20280312T020000
END:DAYLIGHT
END:VTIMEZONE
BEGIN:VEVENT
UID:0b8a6cce-b965-44b0-92b1-2423b023a41c
DTSTAMP:20260423T232703Z
DESCRIPTION:
DTSTART;TZID=America/Denver:20261215T091500
DTEND;TZID=America/Denver:20261215T111500
LOCATION:Neighborhood Center Dance Floor
SUMMARY:Line Dancing
END:VEVENT
END:VCALENDAR
