BEGIN:VCALENDAR
VERSION:2.0
PRODID:-//www.rmdc.net//NONSGML kigkonsult.se iCalcreator 2.30.10//
CALSCALE:GREGORIAN
METHOD:PUBLISH
UID:4144a33a-a386-414c-8865-937d1e4be5d7
X-WR-CALDESC:
X-WR-RELCALID:2f0b8d68faa7118d21c0478940750feb
X-WR-TIMEZONE:America/Denver
BEGIN:VTIMEZONE
TZID:America/Denver
BEGIN:STANDARD
TZNAME:MST
DTSTART:20261101T020000
TZOFFSETFROM:-0600
TZOFFSETTO:-0700
RDATE:20271107T020000
END:STANDARD
BEGIN:DAYLIGHT
TZNAME:MDT
DTSTART:20260308T020000
TZOFFSETFROM:-0700
TZOFFSETTO:-0600
RDATE:20270314T020000
RDATE:20280312T020000
END:DAYLIGHT
END:VTIMEZONE
BEGIN:VEVENT
UID:308474a0-8705-450a-b5b3-67fc9f0d245b
DTSTAMP:20260423T233322Z
DESCRIPTION:
DTSTART;TZID=America/Denver:20261222T130000
DTEND;TZID=America/Denver:20261222T160000
LOCATION:
SUMMARY:Pinochle
END:VEVENT
END:VCALENDAR
