BEGIN:VCALENDAR
VERSION:2.0
PRODID:-//www.rmdc.net//NONSGML kigkonsult.se iCalcreator 2.30.10//
CALSCALE:GREGORIAN
METHOD:PUBLISH
UID:58fe63a6-57a2-4f2a-8794-b80956c89c4f
X-WR-CALDESC:
X-WR-RELCALID:aea11c4bd601bbdc17cdddc35042c610
X-WR-TIMEZONE:America/Denver
BEGIN:VTIMEZONE
TZID:America/Denver
BEGIN:STANDARD
TZNAME:MST
DTSTART:20261101T020000
TZOFFSETFROM:-0600
TZOFFSETTO:-0700
RDATE:20271107T020000
END:STANDARD
BEGIN:DAYLIGHT
TZNAME:MDT
DTSTART:20260308T020000
TZOFFSETFROM:-0700
TZOFFSETTO:-0600
RDATE:20270314T020000
RDATE:20280312T020000
END:DAYLIGHT
END:VTIMEZONE
BEGIN:VEVENT
UID:bb14860a-749e-4d7a-bc62-e478fb33efbe
DTSTAMP:20260424T005451Z
DESCRIPTION:
DTSTART;TZID=America/Denver:20270105T130000
DTEND;TZID=America/Denver:20270105T160000
LOCATION:
SUMMARY:Pinochle
END:VEVENT
END:VCALENDAR
