BEGIN:VCALENDAR
VERSION:2.0
PRODID:-//www.rmdc.net//NONSGML kigkonsult.se iCalcreator 2.30.10//
CALSCALE:GREGORIAN
METHOD:PUBLISH
UID:a0fc420d-232f-4b30-8de0-78b50a7a5671
X-WR-CALDESC:Join us for a gentle exercise class!
X-WR-RELCALID:8aba93e661c18378664d74b66fd28a2e
X-WR-TIMEZONE:America/Denver
BEGIN:VTIMEZONE
TZID:America/Denver
BEGIN:STANDARD
TZNAME:MST
DTSTART:20261101T020000
TZOFFSETFROM:-0600
TZOFFSETTO:-0700
RDATE:20271107T020000
END:STANDARD
BEGIN:DAYLIGHT
TZNAME:MDT
DTSTART:20260308T020000
TZOFFSETFROM:-0700
TZOFFSETTO:-0600
RDATE:20270314T020000
RDATE:20280312T020000
END:DAYLIGHT
END:VTIMEZONE
BEGIN:VEVENT
UID:bb85d350-e463-4f54-9cae-59474b6cc038
DTSTAMP:20260424T005345Z
DESCRIPTION:Join us for a gentle exercise class!
DTSTART;TZID=America/Denver:20270106T103000
DTEND;TZID=America/Denver:20270106T110000
LOCATION:200 South Cruse\, Helena\, MT 59601 US
SUMMARY:Chi Gong
END:VEVENT
END:VCALENDAR
