BEGIN:VCALENDAR
VERSION:2.0
PRODID:-//www.rmdc.net//NONSGML kigkonsult.se iCalcreator 2.30.10//
CALSCALE:GREGORIAN
METHOD:PUBLISH
UID:825f5d04-8689-4af8-b960-2f1ae1e1d76b
X-WR-CALDESC:Join us for a gentle exercise class!
X-WR-RELCALID:4f29e7da5e821782fcfdf6d0338e5c36
X-WR-TIMEZONE:America/Denver
BEGIN:VTIMEZONE
TZID:America/Denver
BEGIN:STANDARD
TZNAME:MST
DTSTART:20261101T020000
TZOFFSETFROM:-0600
TZOFFSETTO:-0700
RDATE:20271107T020000
END:STANDARD
BEGIN:DAYLIGHT
TZNAME:MDT
DTSTART:20260308T020000
TZOFFSETFROM:-0700
TZOFFSETTO:-0600
RDATE:20270314T020000
RDATE:20280312T020000
END:DAYLIGHT
END:VTIMEZONE
BEGIN:VEVENT
UID:0bcff7f5-39c4-4e68-a795-0fc56c6a4f88
DTSTAMP:20260424T005330Z
DESCRIPTION:Join us for a gentle exercise class!
DTSTART;TZID=America/Denver:20270113T103000
DTEND;TZID=America/Denver:20270113T110000
LOCATION:200 South Cruse\, Helena\, MT 59601 US
SUMMARY:Chi Gong
END:VEVENT
END:VCALENDAR
