BEGIN:VCALENDAR
VERSION:2.0
PRODID:-//www.rmdc.net//NONSGML kigkonsult.se iCalcreator 2.30.10//
CALSCALE:GREGORIAN
METHOD:PUBLISH
UID:91bc1633-be1d-4b08-ba1d-228bb5d327dd
X-WR-CALDESC:Join us for a gentle exercise class!
X-WR-RELCALID:f456a3cd36be534f153776bacd29ef16
X-WR-TIMEZONE:America/Denver
BEGIN:VTIMEZONE
TZID:America/Denver
BEGIN:STANDARD
TZNAME:MST
DTSTART:20261101T020000
TZOFFSETFROM:-0600
TZOFFSETTO:-0700
RDATE:20271107T020000
END:STANDARD
BEGIN:DAYLIGHT
TZNAME:MDT
DTSTART:20260308T020000
TZOFFSETFROM:-0700
TZOFFSETTO:-0600
RDATE:20270314T020000
RDATE:20280312T020000
END:DAYLIGHT
END:VTIMEZONE
BEGIN:VEVENT
UID:0b410291-00fd-44c7-96d4-4a5b84a02fc5
DTSTAMP:20260424T005421Z
DESCRIPTION:Join us for a gentle exercise class!
DTSTART;TZID=America/Denver:20270120T103000
DTEND;TZID=America/Denver:20270120T110000
LOCATION:200 South Cruse\, Helena\, MT 59601 US
SUMMARY:Chi Gong
END:VEVENT
END:VCALENDAR
