BEGIN:VCALENDAR
VERSION:2.0
PRODID:-//www.rmdc.net//NONSGML kigkonsult.se iCalcreator 2.30.10//
CALSCALE:GREGORIAN
METHOD:PUBLISH
UID:6823c165-9c0a-4447-a3a3-c6b328b213b5
X-WR-CALDESC:
X-WR-RELCALID:e0f46631d212fac08c5174c0ae80bfee
X-WR-TIMEZONE:America/Denver
BEGIN:VTIMEZONE
TZID:America/Denver
BEGIN:STANDARD
TZNAME:MST
DTSTART:20261101T020000
TZOFFSETFROM:-0600
TZOFFSETTO:-0700
RDATE:20271107T020000
END:STANDARD
BEGIN:DAYLIGHT
TZNAME:MDT
DTSTART:20260308T020000
TZOFFSETFROM:-0700
TZOFFSETTO:-0600
RDATE:20270314T020000
RDATE:20280312T020000
END:DAYLIGHT
END:VTIMEZONE
BEGIN:VEVENT
UID:b3fc1120-b819-4384-ba2b-65c1319f3fb7
DTSTAMP:20260424T005427Z
DESCRIPTION:
DTSTART;TZID=America/Denver:20270126T130000
DTEND;TZID=America/Denver:20270126T160000
LOCATION:
SUMMARY:Pinochle
END:VEVENT
END:VCALENDAR
